BEGIN:VCALENDAR
VERSION:2.0
PRODID:-//Father Peyton Center - ECPv4.2.6//NONSGML v1.0//EN
CALSCALE:GREGORIAN
METHOD:PUBLISH
X-WR-CALNAME:Father Peyton Center
X-ORIGINAL-URL:http://fatherpeytoncentre.ie
X-WR-CALDESC:Events for Father Peyton Center
BEGIN:VEVENT
DTSTART;TZID=Europe/Dublin:20151006T121500
DTEND;TZID=Europe/Dublin:20151006T124500
DTSTAMP:20171030T174429
CREATED:20150921T111740
LAST-MODIFIED:20150921T111740
UID:3239-1444133700-1444135500@fatherpeytoncentre.ie
SUMMARY:Mass will be offered for John Ginty RIP and deceased members of the Ginty Family
DESCRIPTION:Mas
URL:http://fatherpeytoncentre.ie/event/mass-will-be-offered-for-john-ginty-rip-and-deceased-members-of-the-ginty-family/
END:VEVENT
END:VCALENDAR