BEGIN:VCALENDAR
VERSION:2.0
PRODID:-//Father Peyton Center - ECPv4.2.6//NONSGML v1.0//EN
CALSCALE:GREGORIAN
METHOD:PUBLISH
X-WR-CALNAME:Father Peyton Center
X-ORIGINAL-URL:http://fatherpeytoncentre.ie
X-WR-CALDESC:Events for Father Peyton Center
BEGIN:VEVENT
DTSTART;TZID=Europe/Dublin:20151007T120000
DTEND;TZID=Europe/Dublin:20151007T154500
DTSTAMP:20171030T174314
CREATED:20150921T112010
LAST-MODIFIED:20150921T112010
UID:3240-1444219200-1444232700@fatherpeytoncentre.ie
SUMMARY: Feast of the Holy Rosary. Day of Prayer for Our Lady's Intentions.
DESCRIPTION:Day of Prayer
URL:http://fatherpeytoncentre.ie/event/feast-of-the-holy-rosary-day-of-prayer-for-our-ladys-intentions/
END:VEVENT
END:VCALENDAR