BEGIN:VCALENDAR
VERSION:2.0
PRODID:-//Father Peyton Center - ECPv4.2.6//NONSGML v1.0//EN
CALSCALE:GREGORIAN
METHOD:PUBLISH
X-WR-CALNAME:Father Peyton Center
X-ORIGINAL-URL:http://fatherpeytoncentre.ie
X-WR-CALDESC:Events for Father Peyton Center
BEGIN:VEVENT
DTSTART;TZID=Europe/Dublin:20151012T100000
DTEND;TZID=Europe/Dublin:20151012T150000
DTSTAMP:20171030T174125
CREATED:20150921T112333
LAST-MODIFIED:20150921T112333
UID:3242-1444644000-1444662000@fatherpeytoncentre.ie
SUMMARY:Coola Secondary School Retreat
DESCRIPTION:Retreat
URL:http://fatherpeytoncentre.ie/event/coola-secondary-school-retreat-3/
END:VEVENT
END:VCALENDAR